BEGIN:VCALENDAR
PRODID:-//eluceo/ical//2.0/EN
VERSION:2.0
CALSCALE:GREGORIAN
BEGIN:VEVENT
UID:45168f11a0e5e4e254c65f5ef5b558dd
DTSTAMP:20260421T134706Z
SUMMARY:Klúbbfundur
DESCRIPTION:
URL:https://akureyri.rotary1360.is/is/agenda/show/758
DTSTART;TZID=Iceland:20190306T181500
DTEND;TZID=Iceland:20190306T193000
LOCATION:Kea Hotel\nHafnarstræti 87-89\n600 Akureyri\n
CATEGORIES:Rotary
END:VEVENT
BEGIN:VTIMEZONE
TZID:Iceland
BEGIN:STANDARD
DTSTART:20190306T181500
TZNAME:GMT
TZOFFSETTO:+0000
TZOFFSETFROM:+0000
END:STANDARD
END:VTIMEZONE
END:VCALENDAR
