BEGIN:VCALENDAR
PRODID:-//eluceo/ical//2.0/EN
VERSION:2.0
CALSCALE:GREGORIAN
BEGIN:VEVENT
UID:4c1e44a4cb6a977ba306e985418da37f
DTSTAMP:20260420T120411Z
SUMMARY:73. umdæmisþing Rótarý á Íslandi
DESCRIPTION:
URL:https://akureyri.rotary1360.is/is/agenda/show/445
DTSTART;TZID=Iceland:20181013T091500
DTEND;TZID=Iceland:20181013T161500
LOCATION:Hótel Selfoss\n
CATEGORIES:Rotary
END:VEVENT
BEGIN:VTIMEZONE
TZID:Iceland
BEGIN:STANDARD
DTSTART:20181013T091500
TZNAME:GMT
TZOFFSETTO:+0000
TZOFFSETFROM:+0000
END:STANDARD
END:VTIMEZONE
END:VCALENDAR
