BEGIN:VCALENDAR
PRODID:-//eluceo/ical//2.0/EN
VERSION:2.0
CALSCALE:GREGORIAN
BEGIN:VEVENT
UID:2ebf4c2caf3a5d0c918d2ea7b0cbd89d
DTSTAMP:20260422T104503Z
SUMMARY:Lífið er línudans
DESCRIPTION:
URL:https://akureyri.rotary1360.is/en/agenda/show/680
DTSTART;TZID=Iceland:20190116T181500
DTEND;TZID=Iceland:20190116T193000
LOCATION:Kea Hotel\nHafnarstræti 87-89\n600 Akureyri\n
CATEGORIES:Rotary
END:VEVENT
BEGIN:VTIMEZONE
TZID:Iceland
BEGIN:STANDARD
DTSTART:20190116T181500
TZNAME:GMT
TZOFFSETTO:+0000
TZOFFSETFROM:+0000
END:STANDARD
END:VTIMEZONE
END:VCALENDAR
