BEGIN:VCALENDAR
PRODID:-//eluceo/ical//2.0/EN
VERSION:2.0
CALSCALE:GREGORIAN
BEGIN:VEVENT
UID:3133fe08e1e81d8110161911e626a725
DTSTAMP:20260422T112835Z
SUMMARY:Hringnum lokað á HM
DESCRIPTION:
URL:https://akureyri.rotary1360.is/en/agenda/show/250
DTSTART;TZID=Iceland:20181031T181500
DTEND;TZID=Iceland:20181031T193000
LOCATION:Kea Hotel\nHafnarstræti 87-89\n600 Akureyri\n
CATEGORIES:Rotary
END:VEVENT
BEGIN:VTIMEZONE
TZID:Iceland
BEGIN:STANDARD
DTSTART:20181031T181500
TZNAME:GMT
TZOFFSETTO:+0000
TZOFFSETFROM:+0000
END:STANDARD
END:VTIMEZONE
END:VCALENDAR
